BEGIN:VCALENDAR
VERSION:2.0
PRODID:-//Purcell School - ECPv6.15.20//NONSGML v1.0//EN
CALSCALE:GREGORIAN
METHOD:PUBLISH
X-ORIGINAL-URL:https://www.purcell-school.org
X-WR-CALDESC:Events for Purcell School
REFRESH-INTERVAL;VALUE=DURATION:PT1H
X-Robots-Tag:noindex
X-PUBLISHED-TTL:PT1H
BEGIN:VTIMEZONE
TZID:Europe/London
BEGIN:DAYLIGHT
TZOFFSETFROM:+0000
TZOFFSETTO:+0100
TZNAME:BST
DTSTART:20250330T010000
END:DAYLIGHT
BEGIN:STANDARD
TZOFFSETFROM:+0100
TZOFFSETTO:+0000
TZNAME:GMT
DTSTART:20251026T010000
END:STANDARD
BEGIN:DAYLIGHT
TZOFFSETFROM:+0000
TZOFFSETTO:+0100
TZNAME:BST
DTSTART:20260329T010000
END:DAYLIGHT
BEGIN:STANDARD
TZOFFSETFROM:+0100
TZOFFSETTO:+0000
TZNAME:GMT
DTSTART:20261025T010000
END:STANDARD
BEGIN:DAYLIGHT
TZOFFSETFROM:+0000
TZOFFSETTO:+0100
TZNAME:BST
DTSTART:20270328T010000
END:DAYLIGHT
BEGIN:STANDARD
TZOFFSETFROM:+0100
TZOFFSETTO:+0000
TZNAME:GMT
DTSTART:20271031T010000
END:STANDARD
END:VTIMEZONE
BEGIN:VEVENT
DTSTART;TZID=Europe/London:20260623T193000
DTEND;TZID=Europe/London:20260623T220000
DTSTAMP:20260424T042737
CREATED:20251113T201518Z
LAST-MODIFIED:20260423T144612Z
UID:10000055-1782243000-1782252000@www.purcell-school.org
SUMMARY:Claire Martin with The Purcell School at PizzaExpress Live (Chelsea)
DESCRIPTION:Join us for a special evening of world-class jazz as acclaimed vocalist Claire Martin performs alongside the exceptional young musicians of The Purcell School at PizzaExpress Live in Chelsea.  \nUnder the direction of saxophonist and Head of Jazz Simon Allen\, and supported by a faculty of leading jazz performers and educators\, students at The Purcell School refine their craft to an outstanding level. Many go on to study at top conservatoires and build successful careers as professional musicians.  \nAn eight-time British Jazz Award winner\, Claire Martin has been a defining voice in UK jazz for over three decades. She began her career at just 19 and soon fulfilled a lifelong ambition to perform at the legendary Ronnie Scott’s Jazz Club in Soho. Since signing with Linn Records in 1990\, Claire has released 18 acclaimed albums and collaborated with some of the most celebrated names in jazz\, including Martin Taylor\, John Martyn\, Stéphane Grappelli\, Kenny Barron\, Sir Richard Rodney Bennett and Jim Mullen.  \nClaire has toured extensively around the world with her trio and has appeared as a featured soloist with leading orchestras such as the Hallé\, Royal Liverpool Philharmonic\, RTÉ Concert Orchestra\, Royal Northern Sinfonia\, BBC Big Band and BBC Concert Orchestra. She also co-presented BBC Radio 3’s flagship programme Jazz Line-Up for 17 years.  \nFor this one-night-only performance\, Claire joins forces with The Purcell School’s outstanding jazz musicians to present a specially curated programme celebrating highlights from her remarkable career. \nTickets are £20 and available from PizzaExpress Live.
URL:https://www.purcell-school.org/event/jazz-department-concert-at-pizza-express-chelsea/
LOCATION:The Pheasantry\, 152 King’s Rd\, London SW3 4NX\, UK
ATTACH;FMTTYPE=image/jpeg:https://www.purcell-school.org/wp-content/uploads/2025/11/CLAIRE-MARTIN_ёKennyMcCracken_7620_nvm.jpg
END:VEVENT
END:VCALENDAR