BEGIN:VCALENDAR
VERSION:2.0
PRODID:-//Purcell School - ECPv6.15.20//NONSGML v1.0//EN
CALSCALE:GREGORIAN
METHOD:PUBLISH
X-ORIGINAL-URL:https://www.purcell-school.org
X-WR-CALDESC:Events for Purcell School
REFRESH-INTERVAL;VALUE=DURATION:PT1H
X-Robots-Tag:noindex
X-PUBLISHED-TTL:PT1H
BEGIN:VTIMEZONE
TZID:Europe/London
BEGIN:DAYLIGHT
TZOFFSETFROM:+0000
TZOFFSETTO:+0100
TZNAME:BST
DTSTART:20250330T010000
END:DAYLIGHT
BEGIN:STANDARD
TZOFFSETFROM:+0100
TZOFFSETTO:+0000
TZNAME:GMT
DTSTART:20251026T010000
END:STANDARD
BEGIN:DAYLIGHT
TZOFFSETFROM:+0000
TZOFFSETTO:+0100
TZNAME:BST
DTSTART:20260329T010000
END:DAYLIGHT
BEGIN:STANDARD
TZOFFSETFROM:+0100
TZOFFSETTO:+0000
TZNAME:GMT
DTSTART:20261025T010000
END:STANDARD
BEGIN:DAYLIGHT
TZOFFSETFROM:+0000
TZOFFSETTO:+0100
TZNAME:BST
DTSTART:20270328T010000
END:DAYLIGHT
BEGIN:STANDARD
TZOFFSETFROM:+0100
TZOFFSETTO:+0000
TZNAME:GMT
DTSTART:20271031T010000
END:STANDARD
END:VTIMEZONE
BEGIN:VEVENT
DTSTART;TZID=Europe/London:20260508T130000
DTEND;TZID=Europe/London:20260508T140000
DTSTAMP:20260424T035300
CREATED:20260227T205955Z
LAST-MODIFIED:20260423T144612Z
UID:10000086-1778245200-1778248800@www.purcell-school.org
SUMMARY:The Purcell School Pianists at Sutton House
DESCRIPTION:Hackney Music Live × Stoke Newington Contemporary Music Festival 2026 runs from Friday 8 to Sunday 10 May 2026\, bringing a major weekend of contemporary and experimental music to venues across Stoke Newington and Hackney\, including Sutton House\, The Old Church\, The Tower Theatre and St Mary’s. This collaboration unites Hackney Music Live’s concert platform with the adventurous spirit of Stoke Newington Contemporary Music Festival\, which has been championing new music and boundary-crossing performance in the area since 2013.   \nThe weekend opens on Friday lunchtime at Sutton House with a remarkable feat: 18 pianists from The Purcell School performing Ligeti’s complete 18 Études — a thrilling traversal of one of the most dazzling and demanding cycles in modern piano literature. \nProgramme:  \nBook I \nI – Désordre (Disorder)II – Cordes à vide (Open Strings)III – Touches bloquées (Blocked Keys)IV – FanfaresV – Arc-en-ciel (Rainbow)VI – Automne à Varsovie (Autumn in Warsaw) \nBook II  \nVII – Galamb BorongVIII – Fém (Metal)IX – Vertige (Vertigo)X – Der Zauberlehrling (The Sorcerer’s Apprentice)XI – En suspens (In Suspense)XII – Entrelacs (Interlacing)XIII – L’escalier du diable (The Devil’s Staircase)XIV – Coloana infinită (Infinite Column)  \nBook III  \nXV – White on WhiteXVI – Pour Irina (For Irina)XVII – À bout de souffle (Out of Breath)XVIII – Canon \nThis concert is part of the Stoke Newington Contemporary Music Festival. Please visit their website for further information and to purchase tickets.
URL:https://www.purcell-school.org/event/the-purcell-school-pianists-at-sutton-house/
LOCATION:Sutton House\, Chatham\, United Kingdom
ATTACH;FMTTYPE=image/jpeg:https://www.purcell-school.org/wp-content/uploads/2026/03/DSC04978-scaled.jpg
GEO:51.5479678807;-0.0488147400873
END:VEVENT
END:VCALENDAR