BEGIN:VCALENDAR
VERSION:2.0
PRODID:-//Purcell School - ECPv6.15.20//NONSGML v1.0//EN
CALSCALE:GREGORIAN
METHOD:PUBLISH
X-WR-CALNAME:Purcell School
X-ORIGINAL-URL:https://www.purcell-school.org
X-WR-CALDESC:Events for Purcell School
REFRESH-INTERVAL;VALUE=DURATION:PT1H
X-Robots-Tag:noindex
X-PUBLISHED-TTL:PT1H
BEGIN:VTIMEZONE
TZID:Europe/London
BEGIN:DAYLIGHT
TZOFFSETFROM:+0000
TZOFFSETTO:+0100
TZNAME:BST
DTSTART:20250330T010000
END:DAYLIGHT
BEGIN:STANDARD
TZOFFSETFROM:+0100
TZOFFSETTO:+0000
TZNAME:GMT
DTSTART:20251026T010000
END:STANDARD
BEGIN:DAYLIGHT
TZOFFSETFROM:+0000
TZOFFSETTO:+0100
TZNAME:BST
DTSTART:20260329T010000
END:DAYLIGHT
BEGIN:STANDARD
TZOFFSETFROM:+0100
TZOFFSETTO:+0000
TZNAME:GMT
DTSTART:20261025T010000
END:STANDARD
BEGIN:DAYLIGHT
TZOFFSETFROM:+0000
TZOFFSETTO:+0100
TZNAME:BST
DTSTART:20270328T010000
END:DAYLIGHT
BEGIN:STANDARD
TZOFFSETFROM:+0100
TZOFFSETTO:+0000
TZNAME:GMT
DTSTART:20271031T010000
END:STANDARD
END:VTIMEZONE
BEGIN:VEVENT
DTSTART;TZID=Europe/London:20260320T193000
DTEND;TZID=Europe/London:20260320T213000
DTSTAMP:20260421T182011
CREATED:20250904T094015Z
LAST-MODIFIED:20260319T214451Z
UID:10000027-1774035000-1774042200@www.purcell-school.org
SUMMARY:South Hill Park Concert
DESCRIPTION:Purcell School Woodwind and Piano students perform at South Hill Park Arts Centre as part of the Conservatoire International Concert Series.  \nProgramme to include: Lalliet Terzetto Op. 22 for Oboe\, Bassoon and Piano 2 first and second movementsJean-Marie Leclair Sonata in C arranged for two saxophonesFernande Decruck Sonata in C#Debussy Syrinx for solo saxophoneDutilleux Sarabande et Cortège for bassoon and pianoBritten Metamorphoses one to four for solo oboePoulenc Trio for bassoon\, oboe and piano Rio Noda Improvisation for solo alto sax         Jean-Baptiste Singelée Duo Concertant Op.55 in Eb Major for two saxophones and piano\, first movement \nVisit the South Hill Arts Centre website for further info and to purchase tickets.
URL:https://www.purcell-school.org/event/south-hill-park-concert-2/
LOCATION:South Hill Park Arts Centre\, Ringmead\, Hanworth\, United Kingdom
ATTACH;FMTTYPE=image/jpeg:https://www.purcell-school.org/wp-content/uploads/2025/10/South-Park-Hill-Arts-Centre.jpg
GEO:51.394380098197;-0.74836449474756
X-APPLE-STRUCTURED-LOCATION;VALUE=URI;X-ADDRESS=South Hill Park Arts Centre Ringmead Hanworth United Kingdom;X-APPLE-RADIUS=500;X-TITLE=Ringmead:geo:-0.74836449474756,51.394380098197
END:VEVENT
END:VCALENDAR